View In:
ArcGIS JavaScript
ArcGIS Online Map Viewer
ArcGIS Earth
ArcMap
View Footprint In:
ArcGIS Online Map Viewer
Service Description: Image/Lattice
Name: Image/Lattice
Description:
Single Fused Map Cache: true
Tile Info:
- Height: 256
- Width: 256
- DPI: 96
-
Levels of Detail: 12
- Format: MIXED
- Compression Quality: 75.0
- LERC Error: NaN
- Origin: X: -3.36998E7
Y: 3.36998E7
- Spatial Reference: 102067
(5514)
LatestVCSWkid(0)
Storage Info:
- Storage Format: esriMapCacheStorageModeCompactV2
- Packet Size: 128
Extent:
XMin: -904580.0
YMin: -1046180.0
XMax: -821755.0
YMax: -985220.0
Spatial Reference: 102067
(5514)
LatestVCSWkid(0)
Initial Extent:
XMin: -904580.0
YMin: -1046180.0
XMax: -821755.0
YMax: -985220.0
Spatial Reference: 102067
(5514)
LatestVCSWkid(0)
Full Extent:
XMin: -904580.0
YMin: -1046180.0
XMax: -821755.0
YMax: -985220.0
Spatial Reference: 102067
(5514)
LatestVCSWkid(0)
Pixel Size X: 0.5
Pixel Size Y: 0.5
Band Count: 1
Pixel Type: F32
RasterFunction Infos: {"rasterFunctionInfos": [{
"name": "None",
"description": "",
"help": ""
}]}
Mensuration Capabilities: Basic
Has Histograms: true
Has Colormap: false
Has Multi Dimensions : false
Rendering Rule:
Min Scale: 483840
Max Scale: 15120
Min LOD: 1
Max LOD: 6
Copyright Text:
Service Data Type: esriImageServiceDataTypeGeneric
Min Values: 277.47723388671875
Max Values: 1242.558349609375
Mean Values: 618.2563682593999
Standard Deviation Values: 139.02938649977045
Object ID Field:
Fields:
None
Default Mosaic Method: Center
Allowed Mosaic Methods:
SortField:
SortValue: null
Mosaic Operator: First
Default Compression Quality: 75
Default Resampling Method: Bilinear
Max Record Count: null
Max Image Height: 4100
Max Image Width: 15000
Max Download Image Count: null
Max Mosaic Image Count: null
Allow Raster Function: true
Allow Copy: true
Allow Analysis: true
Allow Compute TiePoints: false
Supports Statistics: false
Supports Advanced Queries: false
Use StandardizedQueries: true
Raster Type Infos:
Name: Raster Dataset
Description: Supports all ArcGIS Raster Datasets
Help:
Has Raster Attribute Table: false
Edit Fields Info: null
Ownership Based AccessControl For Rasters: null
Child Resources:
Info
Histograms
Statistics
Key Properties
Legend
Raster Function Infos
Supported Operations:
Export Image
Identify
Measure
Compute Histograms
Compute Statistics Histograms
Get Samples
Compute Class Statistics
Query Boundary
Compute Pixel Location
Compute Angles
Validate
Project