{
 "currentVersion": 10.91,
 "serviceDescription": "Image/Lattice",
 "name": "Image/Lattice",
 "description": "",
 "extent": {
  "xmin": -904580,
  "ymin": -1046180,
  "xmax": -821755,
  "ymax": -985220,
  "spatialReference": {
   "wkid": 102067,
   "latestWkid": 5514
  }
 },
 "initialExtent": {
  "xmin": -904580,
  "ymin": -1046180,
  "xmax": -821755,
  "ymax": -985220,
  "spatialReference": {
   "wkid": 102067,
   "latestWkid": 5514
  }
 },
 "fullExtent": {
  "xmin": -904580,
  "ymin": -1046180,
  "xmax": -821755,
  "ymax": -985220,
  "spatialReference": {
   "wkid": 102067,
   "latestWkid": 5514
  }
 },
 "hasMultidimensions": false,
 "pixelSizeX": 0.5,
 "pixelSizeY": 0.5,
 "datasetFormat": "SDR",
 "uncompressedSize": 80784192000,
 "blockWidth": 128,
 "blockHeight": 128,
 "compressionType": "LZ77",
 "bandNames": [
  "Band_1"
 ],
 "allowCopy": true,
 "allowAnalysis": true,
 "bandCount": 1,
 "pixelType": "F32",
 "minPixelSize": 4.000508001016002,
 "maxPixelSize": 128.01625603251208,
 "copyrightText": "",
 "serviceDataType": "esriImageServiceDataTypeGeneric",
 "serviceSourceType": "esriImageServiceSourceTypeDataset",
 "minValues": [
  277.47723388671875
 ],
 "maxValues": [
  1242.558349609375
 ],
 "meanValues": [
  618.2563682593999
 ],
 "stdvValues": [
  139.02938649977045
 ],
 "objectIdField": "",
 "fields": [],
 "capabilities": "Image,Metadata,Mensuration",
 "defaultMosaicMethod": "Center",
 "allowedMosaicMethods": "",
 "sortField": "",
 "sortValue": null,
 "sortAscending": true,
 "mosaicOperator": "First",
 "defaultCompressionQuality": 75,
 "defaultResamplingMethod": "Bilinear",
 "maxImageHeight": 4100,
 "maxImageWidth": 15000,
 "singleFusedMapCache": true,
 "tileInfo": {
  "rows": 256,
  "cols": 256,
  "dpi": 96,
  "format": "MIXED",
  "compressionQuality": 75,
  "origin": {
   "x": -33699800,
   "y": 33699800
  },
  "spatialReference": {
   "wkid": 102067,
   "latestWkid": 5514
  },
  "lods": [
   {
    "level": 0,
    "resolution": 256.03251206502415,
    "scale": 967680
   },
   {
    "level": 1,
    "resolution": 128.01625603251208,
    "scale": 483840
   },
   {
    "level": 2,
    "resolution": 64.00812801625604,
    "scale": 241920
   },
   {
    "level": 3,
    "resolution": 32.00406400812802,
    "scale": 120960
   },
   {
    "level": 4,
    "resolution": 16.00203200406401,
    "scale": 60480
   },
   {
    "level": 5,
    "resolution": 8.001016002032005,
    "scale": 30240
   },
   {
    "level": 6,
    "resolution": 4.000508001016002,
    "scale": 15120
   },
   {
    "level": 7,
    "resolution": 2.000254000508001,
    "scale": 7560
   },
   {
    "level": 8,
    "resolution": 1.0001270002540006,
    "scale": 3780
   },
   {
    "level": 9,
    "resolution": 0.5000635001270003,
    "scale": 1890
   },
   {
    "level": 10,
    "resolution": 0.25003175006350015,
    "scale": 945
   },
   {
    "level": 11,
    "resolution": 0.12501587503175007,
    "scale": 472.5
   }
  ]
 },
 "storageInfo": {
  "storageFormat": "esriMapCacheStorageModeCompactV2",
  "packetSize": 128
 },
 "cacheType": "Map",
 "allowRasterFunction": true,
 "rasterFunctionInfos": [
  {
   "name": "None",
   "description": "",
   "help": ""
  }
 ],
 "rasterTypeInfos": [
  {
   "name": "Raster Dataset",
   "description": "Supports all ArcGIS Raster Datasets",
   "help": ""
  }
 ],
 "mensurationCapabilities": "Basic",
 "hasHistograms": true,
 "hasColormap": false,
 "hasRasterAttributeTable": false,
 "minScale": 483840,
 "maxScale": 15120,
 "minLOD": 1,
 "maxLOD": 6,
 "exportTilesAllowed": false,
 "supportsStatistics": false,
 "supportsAdvancedQueries": false,
 "editFieldsInfo": null,
 "ownershipBasedAccessControlForRasters": null,
 "allowComputeTiePoints": false,
 "useStandardizedQueries": true,
 "advancedQueryCapabilities": {
  "useStandardizedQueries": true,
  "supportsStatistics": false,
  "supportsOrderBy": false,
  "supportsDistinct": false,
  "supportsPagination": false
 },
 "spatialReference": {
  "wkid": 102067,
  "latestWkid": 5514
 }
}
