{
 "cimVersion": "3.5.0",
 "serviceDescription": "",
 "mapName": "Map",
 "description": "",
 "copyrightText": "",
 "supportsDynamicLayers": false,
 "layers": [
  {
   "id": 0,
   "name": "UP_obci",
   "parentLayerId": -1,
   "defaultVisibility": true,
   "subLayerIds": null,
   "minScale": 0,
   "maxScale": 0,
   "type": "Raster Layer",
   "supportsDynamicLegends": true
  }
 ],
 "tables": [],
 "spatialReference": {
  "wkid": 102067,
  "latestWkid": 5514,
  "xyTolerance": 0.001,
  "zTolerance": 0.001,
  "mTolerance": 0.001,
  "falseX": -33699800,
  "falseY": -33699800,
  "xyUnits": 10000,
  "falseZ": -100000,
  "zUnits": 10000,
  "falseM": -100000,
  "mUnits": 10000
 },
 "singleFusedMapCache": true,
 "tileInfo": {
  "rows": 256,
  "cols": 256,
  "dpi": 96,
  "format": "JPEG",
  "compressionQuality": 75,
  "origin": {
   "x": -33699800,
   "y": 33699800
  },
  "spatialReference": {
   "wkid": 102067,
   "latestWkid": 5514,
   "xyTolerance": 0.001,
   "zTolerance": 0.001,
   "mTolerance": 0.001,
   "falseX": -33699800,
   "falseY": -33699800,
   "xyUnits": 10000,
   "falseZ": -100000,
   "zUnits": 10000,
   "falseM": -100000,
   "mUnits": 10000
  },
  "lods": [
   {
    "level": 0,
    "resolution": 256.03251206502415,
    "scale": 967680
   },
   {
    "level": 1,
    "resolution": 128.01625603251208,
    "scale": 483840
   },
   {
    "level": 2,
    "resolution": 64.00812801625604,
    "scale": 241920
   },
   {
    "level": 3,
    "resolution": 32.00406400812802,
    "scale": 120960
   },
   {
    "level": 4,
    "resolution": 16.00203200406401,
    "scale": 60480
   },
   {
    "level": 5,
    "resolution": 8.001016002032005,
    "scale": 30240
   },
   {
    "level": 6,
    "resolution": 4.000508001016002,
    "scale": 15120
   },
   {
    "level": 7,
    "resolution": 2.000254000508001,
    "scale": 7560
   },
   {
    "level": 8,
    "resolution": 1.0001270002540006,
    "scale": 3780
   },
   {
    "level": 9,
    "resolution": 0.5000635001270003,
    "scale": 1890
   },
   {
    "level": 10,
    "resolution": 0.25003175006350015,
    "scale": 945
   },
   {
    "level": 11,
    "resolution": 0.12501587503175007,
    "scale": 472.5
   }
  ]
 },
 "storageInfo": {
  "storageFormat": "esriMapCacheStorageModeCompactV2",
  "packetSize": 128
 },
 "initialExtent": {
  "xmin": -929260.6450866453,
  "ymin": -1050327.3900008698,
  "xmax": -780352.3015839964,
  "ymax": -982014.3714576277,
  "spatialReference": {
   "wkid": 102067,
   "latestWkid": 5514,
   "xyTolerance": 0.001,
   "zTolerance": 0.001,
   "mTolerance": 0.001,
   "falseX": -33699800,
   "falseY": -33699800,
   "xyUnits": 10000,
   "falseZ": -100000,
   "zUnits": 10000,
   "falseM": -100000,
   "mUnits": 10000
  }
 },
 "fullExtent": {
  "xmin": -904585.4874158918,
  "ymin": -1046178.0295063689,
  "xmax": -821764.2685914758,
  "ymax": -986137.4367702813,
  "spatialReference": {
   "wkid": 102067,
   "latestWkid": 5514,
   "xyTolerance": 0.001,
   "zTolerance": 0.001,
   "mTolerance": 0.001,
   "falseX": -33699800,
   "falseY": -33699800,
   "xyUnits": 10000,
   "falseZ": -100000,
   "zUnits": 10000,
   "falseM": -100000,
   "mUnits": 10000
  }
 },
 "datesInUnknownTimezone": false,
 "units": "esriMeters",
 "supportedImageFormatTypes": "PNG32,PNG24,PNG,JPG,DIB,TIFF,EMF,PS,PDF,GIF,SVG,SVGZ,BMP",
 "documentInfo": {
  "Title": "Map",
  "Author": "",
  "Comments": "",
  "Subject": "",
  "Category": "",
  "Version": "2.9.0",
  "AntialiasingMode": "None",
  "TextAntialiasingMode": "Force",
  "Keywords": ""
 },
 "supportsQueryDomains": true,
 "supportedQueryFormats": "JSON, geoJSON, PBF",
 "referenceScale": 0.0,
 "datumTransformations": [
  {
   "geoTransforms": [
    {
     "wkid": 5239,
     "latestWkid": 5239,
     "transformForward": false,
     "name": "S_JTSK_To_WGS_1984_5"
    }
   ]
  },
  {
   "geoTransforms": [
    {
     "wkid": 5239,
     "latestWkid": 5239,
     "transformForward": true,
     "name": "S_JTSK_To_WGS_1984_5"
    }
   ]
  }
 ],
 "supportsDatumTransformation": true,
 "archivingInfo": {
  "supportsHistoricMoment": false
 },
 "supportsClipping": true,
 "supportsSpatialFilter": true,
 "supportsTimeRelation": true,
 "supportsQueryDataElements": true,
 "mapUnits": {
  "uwkid": 9001
 },
 "maxSelectionCount": 2000,
 "maxRecordCount": 1000,
 "maxImageHeight": 4096,
 "maxImageWidth": 4096,
 "minScale": 967680.0,
 "maxScale": 945.0,
 "exportTilesAllowed": false,
 "maxExportTilesCount": 100000,
 "currentVersion": 12.9,
 "capabilities": "TilesOnly,Tilemap",
 "minLOD": 0,
 "maxLOD": 10,
 "supportedExtensions": "",
 "serviceItemId": "7548f954be0048039f63642cb3481141"
}
