{
 "version": 1.0,
 "tileBundlesPath": "./tile",
 "storageInfo": {
  "packetSize": 128,
  "storageFormat": "esriMapCacheStorageModeCompactV2"
 },
 "tileImageInfo": {
  "format": "MIXED",
  "compressionQuality": 75,
  "bandCount": 1,
  "lercError": 0
 },
 "tileInfo": {
  "spatialReference": {
   "wkid": 102067,
   "latestWkid": 5514
  },
  "origin": {
   "x": -33699800,
   "y": 33699800
  },
  "rows": 256,
  "cols": 256,
  "dpi": 96,
  "lods": [
   {
    "level": 0,
    "resolution": 256.03251206502415,
    "scale": 967680
   },
   {
    "level": 1,
    "resolution": 128.01625603251208,
    "scale": 483840
   },
   {
    "level": 2,
    "resolution": 64.00812801625604,
    "scale": 241920
   },
   {
    "level": 3,
    "resolution": 32.00406400812802,
    "scale": 120960
   },
   {
    "level": 4,
    "resolution": 16.00203200406401,
    "scale": 60480
   },
   {
    "level": 5,
    "resolution": 8.001016002032005,
    "scale": 30240
   },
   {
    "level": 6,
    "resolution": 4.000508001016002,
    "scale": 15120
   },
   {
    "level": 7,
    "resolution": 2.000254000508001,
    "scale": 7560
   },
   {
    "level": 8,
    "resolution": 1.0001270002540006,
    "scale": 3780
   },
   {
    "level": 9,
    "resolution": 0.5000635001270003,
    "scale": 1890
   },
   {
    "level": 10,
    "resolution": 0.25003175006350015,
    "scale": 945
   },
   {
    "level": 11,
    "resolution": 0.12501587503175007,
    "scale": 472.5
   }
  ],
  "format": "MIXED",
  "compressionQuality": 75,
  "bandCount": 1,
  "lercError": 0,
  "storageFormat": "esriMapCacheStorageModeCompactV2",
  "packetSize": 128
 },
 "name": "UP_obci",
 "serviceDescription": "",
 "spatialReference": {
  "wkid": 102067,
  "latestWkid": 5514,
  "xyTolerance": 0.001,
  "zTolerance": 0.001,
  "mTolerance": 0.001,
  "falseX": -33699800,
  "falseY": -33699800,
  "xyUnits": 10000,
  "falseZ": -100000,
  "zUnits": 10000,
  "falseM": -100000,
  "mUnits": 10000
 },
 "units": "esriMeters",
 "minLOD": 1,
 "maxLOD": 11,
 "resampling": true,
 "layers": [
  {
   "id": 0,
   "name": "RUIAN_publikacni.SDE.Vusc",
   "parentLayerId": -1,
   "defaultVisibility": true,
   "subLayerIds": null,
   "minScale": 0,
   "maxScale": 0,
   "type": "Feature Layer",
   "geometryType": "esriGeometryPolygon",
   "supportsDynamicLegends": true,
   "legend": [
    {
     "label": "",
     "imageData": "iVBORw0KGgoAAAANSUhEUgAAABQAAAAUCAYAAACNiR0NAAAACXBIWXMAAA7EAAAOxAGVKw4bAAAAN0lEQVQ4je3QoREAMBACQTJD/y0Tk4jX4J4zuBUQgBCMb0/I0wdjsaAdfWJW0I8BY1Rw04dKiRdWjgNPSyeLfgAAAABJRU5ErkJggg==",
     "contentType": "image/png",
     "groupId": "0",
     "height": 20,
     "width": 20,
     "layerId": 0,
     "layerName": "RUIAN_publikacni.SDE.Vusc"
    }
   ],
   "layerId": 0,
   "layerName": "RUIAN_publikacni.SDE.Vusc",
   "serviceItemId": "8ee57e9cb3b74dec8e9e5c78cafd3631"
  },
  {
   "id": 1,
   "name": "UP_obci",
   "parentLayerId": -1,
   "defaultVisibility": true,
   "subLayerIds": null,
   "minScale": 0,
   "maxScale": 0,
   "type": "Raster Layer",
   "supportsDynamicLegends": true,
   "legend": [
    {
     "label": "Red: Band_1",
     "imageData": "iVBORw0KGgoAAAANSUhEUgAAABQAAAAUCAYAAACNiR0NAAAACXBIWXMAAA7EAAAOxAGVKw4bAAAAOklEQVQ4jWNhoDJgoZmB/8GIfMAIRrR0IbUAC9VMgoJRAykHLFQwAwWMGkg5YBnBBjJCyzOqGUgtAABgfwJTnasaYgAAAABJRU5ErkJggg==",
     "contentType": "image/png",
     "groupId": "0",
     "height": 20,
     "width": 20,
     "layerId": 1,
     "layerName": "UP_obci"
    },
    {
     "label": "Green: Band_2",
     "imageData": "iVBORw0KGgoAAAANSUhEUgAAABQAAAAUCAYAAACNiR0NAAAACXBIWXMAAA7EAAAOxAGVKw4bAAAAPElEQVQ4je3UoQ0AMBBCUS5h/5WvpkmDhjr+AE8gIMLxH7hYSxqMgqFY0I4+oRX0Y8CQCvq9De+f5cBQB19+AlPZl25RAAAAAElFTkSuQmCC",
     "contentType": "image/png",
     "groupId": "0",
     "height": 20,
     "width": 20,
     "layerId": 1,
     "layerName": "UP_obci"
    },
    {
     "label": "Blue: Band_3",
     "imageData": "iVBORw0KGgoAAAANSUhEUgAAABQAAAAUCAYAAACNiR0NAAAACXBIWXMAAA7EAAAOxAGVKw4bAAAAPElEQVQ4jWNhoDJgoaGB//9TZhQjI5qB1AEsowZSDFgoNwIVjBpIOWChghkoYNRAygFSGELKMyoaSB0AAF59AlO8NYpcAAAAAElFTkSuQmCC",
     "contentType": "image/png",
     "groupId": "0",
     "height": 20,
     "width": 20,
     "layerId": 1,
     "layerName": "UP_obci"
    }
   ],
   "layerId": 1,
   "layerName": "UP_obci",
   "serviceItemId": "8ee57e9cb3b74dec8e9e5c78cafd3631"
  }
 ],
 "initialExtent": {
  "xmin": -904585.2800000012,
  "ymin": -1046177.8099999987,
  "xmax": -821764.3599999994,
  "ymax": -985216.4600000009,
  "spatialReference": {
   "wkid": 102067,
   "latestWkid": 5514
  }
 },
 "fullExtent": {
  "xmin": -904585.2800000012,
  "ymin": -1046177.8099999987,
  "xmax": -821764.3599999994,
  "ymax": -985216.4600000009,
  "spatialReference": {
   "wkid": 102067,
   "latestWkid": 5514
  }
 },
 "minScale": 483840.0,
 "maxScale": 472.5,
 "exportTilesAllowed": false,
 "maxExportTilesCount": 0,
 "currentVersion": 10.91,
 "mapName": "UP_obci",
 "singleFusedMapCache": true,
 "type": "MapServer",
 "supportedExtensions": "",
 "capabilities": "TilesOnly,Tilemap",
 "serviceItemId": "8ee57e9cb3b74dec8e9e5c78cafd3631"
}
